Workbook

Sheet explanation
A1: RAW COTTON RECEIVED AT LIVERPOOL DOCKS, 1860
A3: 1 | B3: This information is taken from the Custom Bills of Entry, B Bills, for the port of Liverpool, 1860. It is the copyright of the Merseyside Maritime Museum (C/BE/Liverpool) and is reproduced here by kind permission and for research purposes only. Permission from the Museum must be obtained for any further reproduction.
A5: 2 | B5: Definition: the recipient was the person responsible for taking charge of the cotton when it arrived in Liverpool. He would be either the proprietor of the cotton, or the consignee, or their authorised agent, usually the latter.
A7: 3 | B7: Raw data tab
B8: This sheet is a verbatim transcript of the Bills, in date order. The quantities are bales. Where, occasionally, the entry stated 'packets' or 'packages', these have been entered as bales. There will inevitably have been a few errors in transcription, for which I apologise. The totals are on row 9929. The weight per bale by country of origin is the closest approximation possible and has been derived from figures reproduced by George Holt, Thomas Ellison and John Pender. The record for 1 June 1860 is missing from the archive. Please do not re-sort this sheet: there are totals at the bottom which may be affected.
A10: 4 | B10: Standard names tab
B11: This sheet reproduces the same data as the previous sheet. The quantities are again bales. Names given verbatim on the Bills have been standardised on this sheet, where similar names seem clearly to be the same companies or individuals. To some extent, subjective judgments have needed to be made and may sometimes be wrong. The hidden column A gives the same order as the Raw Data sheet; if data is subsequently re-sorted (as it has been), the original order can be restored by sorting by column A.
A13: 5 | B13: Recipients tab
B14: This and all subsequent tabs are in '000 lbs. This sheet aggregates receipts of cotton by the Standard Names on the previous sheet and converts bales into weight using the bale weight by country given on row 9931 of the Raw Data sheet. It has been sorted by total volume, but (like all other sheets) may be sorted by any column. Column A gives the number of consignments by recipient and Column L the average weight per consignment.
A16: 6 | B16: Brokers tab
B17: This sheet gives the quantities received by known Liverpool cotton brokers. The lack of an LCBA membership list for 1860 has required some assumptions to be made, but not many. In Column A (Status), known members of the LCBA are marked '1' and other known cotton brokers are marked '2'. Whether those marked '2' received cotton on behalf of their companies or as individuals cannot be known. Column B gives the total number of consignments by recipient and Column M the average weight per consignment.
A19: 7 | B19: Non-brokers tab
B20: This sheet gives the quantities received by all recipients except those on the Brokers sheet. Some may nevertheless have been brokers. Column B gives the total number of consignments by recipient and Column M the average weight per consignment.
A23: Jim Powell, March 2020

Sheet raw data
A1: 1 | B1: Date | C1: Recipient | D1: America | E1: India | F1: Egypt | G1: Asia Minor | H1: South America | I1: West Indies | J1: China & Japan | K1: Other | L1: TOTAL (bales)
A2: 2 | B2: 42371 | C2: Meadows, Frost & Co | D2: 386 | L2: =SUM(D2:K2) -> 386
A3: 3 | B3: 42371 | C3: Hall & Mellor | D3: 971 | L3: =SUM(D3:K3) -> 971
A4: 4 | B4: 42371 | C4: Bird, Gillilan & Co | D4: 534 | L4: =SUM(D4:K4) -> 534
A5: 5 | B5: 42371 | C5: Eccles, A & Co | D5: 1007 | L5: =SUM(D5:K5) -> 1007
A6: 6 | B6: 42371 | C6: Guion & Co | D6: 964 | L6: =SUM(D6:K6) -> 964
A7: 7 | B7: 42371 | C7: Eason, Barry & Co | D7: 451 | L7: =SUM(D7:K7) -> 451
A8: 8 | B8: 42371 | C8: Fox, W | D8: 50 | L8: =SUM(D8:K8) -> 50
A9: 9 | B9: 42371 | C9: Duckworth & Rathbone | D9: 537 | L9: =SUM(D9:K9) -> 537
A10: 10 | B10: 42371 | C10: Gilliat, J K & Co | D10: 8 | L10: =SUM(D10:K10) -> 8
A11: 11 | B11: 42371 | C11: Shaw, R & Co | D11: 110 | L11: =SUM(D11:K11) -> 110
A12: 12 | B12: 42371 | C12: Beazley, J | D12: 100 | L12: =SUM(D12:K12) -> 100
A13: 13 | B13: 42371 | C13: Reade, J S M | D13: 50 | L13: =SUM(D13:K13) -> 50
... A78: 78 | B78: 42371 | C78: Cropper, Hodgson & Co | D78: 255 | L78: =SUM(D78:K78) -> 255
A79: 79 | B79: 42371 | C79: Reade, J W | F79: 45 | L79: =SUM(D79:K79) -> 45
A80: 80 | B80: 42371 | C80: Salisbury, Turner & Co | F80: 41 | L80: =SUM(D80:K80) -> 41
A81: 81 | B81: 42371 | C81: Pappacalo, D | F81: 56 | L81: =SUM(D81:K81) -> 56
A82: 82 | B82: 42371 | C82: Holt, G & Co | F82: 364 | L82: =SUM(D82:K82) -> 364
A83: 83 | B83: 42371 | C83: Rodocanachi, C T | F83: 170 | L83: =SUM(D83:K83) -> 170
A84: 84 | B84: 42371 | C84: Forbes, Forbes & Co | E84: 152 | L84: =SUM(D84:K84) -> 152
A85: 85 | B85: 42371 | C85: Coupland Bros | E85: 50 | L85: =SUM(D85:K85) -> 50
A86: 86 | B86: 42371 | C86: Simpson, D C & Co | E86: 750 | L86: =SUM(D86:K86) -> 750
A87: 87 | B87: 42371 | C87: Nixon & Kellick | E87: 235 | L87: =SUM(D87:K87) -> 235
A88: 88 | B88: 42371 | C88: Moon, W | H88: 1324 | L88: =SUM(D88:K88) -> 1324
A89: 89 | B89: 42371 | C89: Mellor & Southall | H89: 1500 | L89: =SUM(D89:K89) -> 1500
A90: 90 | B90: 42372 | C90: Wostenholme, C | D90: 305 | L90: =SUM(D90:K90) -> 305
A91: 91 | B91: 42372 | C91: Swainson, A & Sons | D91: 862 | L91: =SUM(D91:K91) -> 862
A92: 92 | B92: 42372 | C92: Mellor & Southall | D92: 528 | L92: =SUM(D92:K92) -> 528
A93: 93 | B93: 42372 | C93: Richardson, Spence & Co | D93: 200 | L93: =SUM(D93:K93) -> 200
A94: 94 | B94: 42372 | C94: Bennett, T F | D94: 168 | L94: =SUM(D94:K94) -> 168
A95: 95 | B95: 42372 | C95: Dalby, J | D95: 38 | L95: =SUM(D95:K95) -> 38
A96: 96 | B96: 42372 | C96: Stead Bros | D96: 193 | L96: =SUM(D96:K96) -> 193
A97: 97 | B97: 42372 | C97: Graves, S R | D97: 4 | L97: =SUM(D97:K97) -> 4
A98: 98 | B98: 42372 | C98: Rathbone Bros & Co | D98: 616 | L98: =SUM(D98:K98) -> 616
A99: 99 | B99: 42372 | C99: Gaskell, T & R | D99: 50 | L99: =SUM(D99:K99) -> 50
A100: 100 | B100: 42372 | C100: Gath, S | D100: 237 | L100: =SUM(D100:K100) -> 237
A101: 101 | B101: 42372 | C101: Glen & Anderson | D101: 27 | L101: =SUM(D101:K101) -> 27
... A145: 145 | B145: 42372 | C145: Fraser, Trenholm & Co | D145: 1094 | L145: =SUM(D145:K145) -> 1094
A146: 146 | B146: 42372 | C146: Stuart & Warry | F146: 63 | L146: =SUM(D146:K146) -> 63
A147: 147 | B147: 42372 | C147: Cullen, J | F147: 76 | L147: =SUM(D147:K147) -> 76
A148: 148 | B148: 42372 | C148: Webster, J & Co | F148: 103 | L148: =SUM(D148:K148) -> 103
A149: 149 | B149: 42372 | C149: Papayanni Bros | F149: 69 | L149: =SUM(D149:K149) -> 69
A150: 150 | B150: 42372 | C150: Reynolds & Co | F150: 25 | L150: =SUM(D150:K150) -> 25
A151: 151 | B151: 42372 | C151: Georgala, B & Co | F151: 148 | L151: =SUM(D151:K151) -> 148
A152: 152 | B152: 42372 | C152: Pappacalo, D | F152: 159 | L152: =SUM(D152:K152) -> 159
A153: 153 | B153: 42372 | C153: Frangopulo & Co | F153: 132 | L153: =SUM(D153:K153) -> 132
A154: 154 | B154: 42372 | C154: Duckworth & Rathbone | F154: 110 | L154: =SUM(D154:K154) -> 110
A155: 155 | B155: 42372 | C155: Dixon, C E | F155: 342 | L155: =SUM(D155:K155) -> 342
A156: 156 | B156: 42372 | C156: Coupland Bros | E156: 235 | L156: =SUM(D156:K156) -> 235
A157: 157 | B157: 42372 | C157: Cowan, R | E157: 1215 | L157: =SUM(D157:K157) -> 1215
A158: 158 | B158: 42372 | C158: Newall & Clayton | E158: 500 | L158: =SUM(D158:K158) -> 500
A159: 159 | B159: 42372 | C159: Beazley, J | E159: 146 | L159: =SUM(D159:K159) -> 146
A160: 160 | B160: 42372 | C160: Bright, W & Son | E160: 250 | L160: =SUM(D160:K160) -> 250
A161: 161 | B161: 42372 | C161: Foulkes, P J | H161: 220 | L161: =SUM(D161:K161) -> 220
A162: 162 | B162: 42372 | C162: Gath, S | H162: 80 | L162: =SUM(D162:K162) -> 80
A163: 163 | B163: 42372 | C163: Cunningham & Hinshaw | H163: 1496 | L163: =SUM(D163:K163) -> 1496
A164: 164 | B164: 42372 | C164: Barton, M & Son | H164: 18 | L164: =SUM(D164:K164) -> 18
A165: 165 | B165: 42373 | C165: Swainson, A & Sons | D165: 600 | L165: =SUM(D165:K165) -> 600
A166: 166 | B166: 42373 | C166: Nicholson, H H | D166: 27 | L166: =SUM(D166:K166) -> 27
A167: 167 | B167: 42373 | C167: Bateson, Chambres & Co | D167: 400 | L167: =SUM(D167:K167) -> 400
A168: 168 | B168: 42373 | C168: Mason & Lister | D168: 204 | L168: =SUM(D168:K168) -> 204
A169: 169 | B169: 42373 | C169: Rushton, Johnson & Co | D169: 95 | L169: =SUM(D169:K169) -> 95
A170: 170 | B170: 42373 | C170: Gath, S | D170: 100 | L170: =SUM(D170:K170) -> 100
A171: 171 | B171: 42373 | C171: Moon, E & Co | D171: 733 | L171: =SUM(D171:K171) -> 733
A172: 172 | B172: 42373 | C172: Zizinia Bros | D172: 96 | L172: =SUM(D172:K172) -> 96
A173: 173 | B173: 42373 | C173: Campbell, C & Son | D173: 206 | L173: =SUM(D173:K173) -> 206
A174: 174 | B174: 42373 | C174: Thornely & Pownall | D174: 36 | L174: =SUM(D174:K174) -> 36
A175: 175 | B175: 42373 | C175: Tomlinson, W D & Co | D175: 104 | L175: =SUM(D175:K175) -> 104
A176: 176 | B176: 42373 | C176: Hennings & Gosling | D176: 533 | L176: =SUM(D176:K176) -> 533
... A209: 209 | B209: 42373 | C209: Gaskell, T & R | D209: 51 | L209: =SUM(D209:K209) -> 51
A210: 210 | B210: 42373 | C210: Clare, W & Sons | F210: 72 | L210: =SUM(D210:K210) -> 72
A211: 211 | B211: 42373 | C211: Cooke, I & Sons | F211: 218.5 | L211: =SUM(D211:K211) -> 218.5
A212: 212 | B212: 42373 | C212: Schroder, J H & Co | F212: 26 | L212: =SUM(D212:K212) -> 26
A213: 213 | B213: 42373 | C213: Stead Bros | F213: 40 | L213: =SUM(D213:K213) -> 40
A214: 214 | B214: 42373 | C214: Swainson, A & Sons | F214: 54 | L214: =SUM(D214:K214) -> 54
A215: 215 | B215: 42373 | C215: Duckworth & Rathbone | F215: 49 | L215: =SUM(D215:K215) -> 49
A216: 216 | B216: 42373 | C216: Reynolds & Gibson | F216: 23 | L216: =SUM(D216:K216) -> 23
A217: 217 | B217: 42373 | C217: Spartali & Co | F217: 432 | L217: =SUM(D217:K217) -> 432
A218: 218 | B218: 42373 | C218: Georgala, B & Co | F218: 145 | L218: =SUM(D218:K218) -> 145
A219: 219 | B219: 42373 | C219: Ralli & Psicha | F219: 15 | L219: =SUM(D219:K219) -> 15
A220: 220 | B220: 42373 | C220: Jones, E | F220: 251 | L220: =SUM(D220:K220) -> 251
A221: 221 | B221: 42373 | C221: Powles, A W & Son | F221: 59 | L221: =SUM(D221:K221) -> 59
A222: 222 | B222: 42373 | C222: Cama & Co | E222: 653 | L222: =SUM(D222:K222) -> 653
A223: 223 | B223: 42373 | C223: Hollinshead, Tetley & Co | E223: 399 | L223: =SUM(D223:K223) -> 399
A224: 224 | B224: 42373 | C224: Greenshields & Co | E224: 42 | L224: =SUM(D224:K224) -> 42
A225: 225 | B225: 42373 | C225: Browne, Hunter & Co | E225: 187 | L225: =SUM(D225:K225) -> 187
A226: 226 | B226: 42373 | C226: Bradbury & Cook | E226: 181 | L226: =SUM(D226:K226) -> 181
A227: 227 | B227: 42373 | C227: Titherington, Gill & Co | K227: 39 | L227: =SUM(D227:K227) -> 39
A228: 228 | B228: 42373 | C228: Johnston, S & Co | H228: 71 | L228: =SUM(D228:K228) -> 71
A229: 229 | B229: 42373 | C229: Cunningham & Hinshaw | H229: 1654 | L229: =SUM(D229:K229) -> 1654
A230: 230 | B230: 42373 | C230: Cotesworth, Lyne & Co | H230: 532 | L230: =SUM(D230:K230) -> 532
A231: 231 | B231: 42373 | C231: Rushton, Johnson & Co | H231: 300 | L231: =SUM(D231:K231) -> 300
A232: 232 | B232: 42373 | C232: Belcher, M & Co | H232: 22 | L232: =SUM(D232:K232) -> 22
A233: 233 | B233: 42374 | C233: Fraser, Trenholm & Co | D233: 500 | L233: =SUM(D233:K233) -> 500
A234: 234 | B234: 42374 | C234: Kearsley, S & Co | D234: 82 | L234: =SUM(D234:K234) -> 82
A235: 235 | B235: 42374 | C235: Baring Bros & Co | D235: 17 | L235: =SUM(D235:K235) -> 17
A236: 236 | B236: 42374 | C236: Tomlinson, W D & Co | D236: 100 | L236: =SUM(D236:K236) -> 100
A237: 237 | B237: 42374 | C237: Smith & Mullins | D237: 206 | L237: =SUM(D237:K237) -> 206
A238: 238 | B238: 42374 | C238: Stratton, J | D238: 335 | L238: =SUM(D238:K238) -> 335
A239: 239 | B239: 42374 | C239: Saunders, C | D239: 200 | L239: =SUM(D239:K239) -> 200
...

Sheet standard names
A1: 1 | B1: Date | C1: Recipient | D1: America | E1: India | F1: Egypt | G1: Asia Minor | H1: South America | I1: West Indies | J1: China & Japan | K1: Other | L1: TOTAL (bales)
A2: 7604 | B2: 42568 | C2: Abcroft, J D | D2: 183 | L2: =SUM(D2:K2) -> 183
A3: 1258 | B3: 42400 | C3: Agelasto, A S | D3: 93 | L3: =SUM(D3:K3) -> 93
A4: 3421 | B4: 42453 | C4: Agelasto, A S | F4: 47 | L4: =SUM(D4:K4) -> 47
A5: 3869 | B5: 42464 | C5: Agelasto, A S | F5: 43 | L5: =SUM(D5:K5) -> 43
A6: 5405 | B6: 42501 | C6: Agelasto, A S | F6: 62 | L6: =SUM(D6:K6) -> 62
A7: 5970 | B7: 42512 | C7: Agelasto, A S | D7: 50 | L7: =SUM(D7:K7) -> 50
A8: 6027 | B8: 42512 | C8: Agelasto, A S | F8: 77 | L8: =SUM(D8:K8) -> 77
A9: 6987 | B9: 42535 | C9: Agelasto, A S | F9: 57 | L9: =SUM(D9:K9) -> 57
A10: 8777 | B10: 42668 | C10: Agelasto, A S | F10: 35 | L10: =SUM(D10:K10) -> 35
A11: 4407 | B11: 42477 | C11: Alexander, W | D11: 1089 | L11: =SUM(D11:K11) -> 1089
A12: 4825 | B12: 42485 | C12: Alexander, W | D12: 998 | L12: =SUM(D12:K12) -> 998
A13: 4166 | B13: 42472 | C13: Ambrose, J | D13: 495 | L13: =SUM(D13:K13) -> 495
A14: 2621 | B14: 42432 | C14: Anderson, S C | D14: 472 | L14: =SUM(D14:K14) -> 472
A15: 2919 | B15: 42438 | C15: Anderson, S C | D15: 463 | L15: =SUM(D15:K15) -> 463
A16: 2944 | B16: 42441 | C16: Anderson, S C | D16: 398 | L16: =SUM(D16:K16) -> 398
A17: 2236 | B17: 42428 | C17: Anderson, T C | D17: 519 | L17: =SUM(D17:K17) -> 519
A18: 3403 | B18: 42453 | C18: Anderson, T C | D18: 1056 | L18: =SUM(D18:K18) -> 1056
A19: 4698 | B19: 42483 | C19: Anderson, T C | D19: 271 | L19: =SUM(D19:K19) -> 271
A20: 4909 | B20: 42487 | C20: Anderson, T C | D20: 528 | L20: =SUM(D20:K20) -> 528
A21: 5362 | B21: 42501 | C21: Anderson, T C | D21: 101 | L21: =SUM(D21:K21) -> 101
A22: 5625 | B22: 42506 | C22: Anderson, T C | D22: 492 | L22: =SUM(D22:K22) -> 492
... A27: 60 | B27: 42371 | C27: Anderton, W | D27: 147 | L27: =SUM(D27:K27) -> 147
A28: 392 | B28: 42378 | C28: Anderton, W | H28: 590 | L28: =SUM(D28:K28) -> 590
A29: 465 | B29: 42379 | C29: Anderton, W | D29: 222 | L29: =SUM(D29:K29) -> 222
A30: 3571 | B30: 42458 | C30: Anderton, W | D30: 44 | L30: =SUM(D30:K30) -> 44
A31: 4240 | B31: 42473 | C31: Anderton, W | D31: 270 | L31: =SUM(D31:K31) -> 270
A32: 4616 | B32: 42480 | C32: Anderton, W | D32: 149 | L32: =SUM(D32:K32) -> 149
A33: 5185 | B33: 42497 | C33: Anderton, W | D33: 348 | L33: =SUM(D33:K33) -> 348
A34: 5833 | B34: 42509 | C34: Anderton, W | D34: 145 | L34: =SUM(D34:K34) -> 145
A35: 5955 | B35: 42512 | C35: Anderton, W | D35: 143 | L35: =SUM(D35:K35) -> 143
A36: 7253 | B36: 42549 | C36: Anderton, W | D36: 30 | L36: =SUM(D36:K36) -> 30
A37: 9279 | B37: 42710 | C37: Anderton, W | D37: 91 | L37: =SUM(D37:K37) -> 91
A38: 9510 | B38: 42717 | C38: Anderton, W | D38: 295 | L38: =SUM(D38:K38) -> 295
A39: 9653 | B39: 42722 | C39: Anderton, W | D39: 209 | L39: =SUM(D39:K39) -> 209
A40: 9826 | B40: 42731 | C40: Anderton, W | D40: 120 | L40: =SUM(D40:K40) -> 120
... A45: 382 | B45: 42378 | C45: Argenti, Sechiari & Co | D45: 348 | L45: =SUM(D45:K45) -> 348
A46: 671 | B46: 42383 | C46: Argenti, Sechiari & Co | F46: 92 | L46: =SUM(D46:K46) -> 92
A47: 1121 | B47: 42395 | C47: Argenti, Sechiari & Co | D47: 500 | L47: =SUM(D47:K47) -> 500
A48: 1429 | B48: 42404 | C48: Argenti, Sechiari & Co | F48: 66 | L48: =SUM(D48:K48) -> 66
A49: 1558 | B49: 42408 | C49: Argenti, Sechiari & Co | D49: 291 | L49: =SUM(D49:K49) -> 291
A50: 2307 | B50: 42428 | C50: Argenti, Sechiari & Co | F50: 101 | L50: =SUM(D50:K50) -> 101
A51: 3314 | B51: 42451 | C51: Argenti, Sechiari & Co | F51: 144 | L51: =SUM(D51:K51) -> 144
A52: 4059 | B52: 42470 | C52: Argenti, Sechiari & Co | D52: 291 | L52: =SUM(D52:K52) -> 291
A53: 4242 | B53: 42473 | C53: Argenti, Sechiari & Co | D53: 252 | L53: =SUM(D53:K53) -> 252
A54: 4413 | B54: 42477 | C54: Argenti, Sechiari & Co | D54: 253 | L54: =SUM(D54:K54) -> 253
A55: 4542 | B55: 42479 | C55: Argenti, Sechiari & Co | D55: 95 | L55: =SUM(D55:K55) -> 95
A56: 4691 | B56: 42481 | C56: Argenti, Sechiari & Co | F56: 105 | L56: =SUM(D56:K56) -> 105
A57: 5633 | B57: 42506 | C57: Argenti, Sechiari & Co | D57: 676 | L57: =SUM(D57:K57) -> 676
A58: 5880 | B58: 42509 | C58: Argenti, Sechiari & Co | D58: 151 | L58: =SUM(D58:K58) -> 151
A59: 6343 | B59: 42518 | C59: Argenti, Sechiari & Co | D59: 427 | L59: =SUM(D59:K59) -> 427
A60: 6860 | B60: 42530 | C60: Argenti, Sechiari & Co | D60: 137 | L60: =SUM(D60:K60) -> 137
A61: 8366 | B61: 42624 | C61: Argenti, Sechiari & Co | F61: 71 | L61: =SUM(D61:K61) -> 71
A62: 8814 | B62: 42672 | C62: Argenti, Sechiari & Co | F62: 49 | L62: =SUM(D62:K62) -> 49
A63: 9414 | B63: 42715 | C63: Argenti, Sechiari & Co | D63: 33 | L63: =SUM(D63:K63) -> 33
A64: 431 | B64: 42379 | C64: Armour & Co | D64: 200 | L64: =SUM(D64:K64) -> 200
A65: 506 | B65: 42380 | C65: Armour & Co | D65: 75 | L65: =SUM(D65:K65) -> 75
A66: 752 | B66: 42386 | C66: Armour & Co | D66: 116 | L66: =SUM(D66:K66) -> 116
A67: 1259 | B67: 42400 | C67: Armour & Co | D67: 100 | L67: =SUM(D67:K67) -> 100
A68: 1752 | B68: 42414 | C68: Armour & Co | D68: 642 | L68: =SUM(D68:K68) -> 642
A69: 2509 | B69: 42431 | C69: Armour & Co | D69: 205 | L69: =SUM(D69:K69) -> 205
A70: 2899 | B70: 42438 | C70: Armour & Co | D70: 200 | L70: =SUM(D70:K70) -> 200
A71: 3167 | B71: 42449 | C71: Armour & Co | D71: 117 | L71: =SUM(D71:K71) -> 117
A72: 3229 | B72: 42450 | C72: Armour & Co | D72: 100 | L72: =SUM(D72:K72) -> 100
A73: 4098 | B73: 42471 | C73: Armour & Co | D73: 40 | L73: =SUM(D73:K73) -> 40
A74: 4298 | B74: 42474 | C74: Armour & Co | D74: 200 | L74: =SUM(D74:K74) -> 200
... A157: 1211 | B157: 42399 | C157: Baring Bros & Co | D157: 273 | L157: =SUM(D157:K157) -> 273
A158: 1231 | B158: 42399 | C158: Baring Bros & Co | E158: 300 | L158: =SUM(D158:K158) -> 300
A159: 1534 | B159: 42408 | C159: Baring Bros & Co | D159: 125 | L159: =SUM(D159:K159) -> 125
A160: 2349 | B160: 42429 | C160: Baring Bros & Co | D160: 119 | L160: =SUM(D160:K160) -> 119
A161: 2407 | B161: 42430 | C161: Baring Bros & Co | D161: 100 | L161: =SUM(D161:K161) -> 100
A162: 2497 | B162: 42431 | C162: Baring Bros & Co | D162: 1003 | L162: =SUM(D162:K162) -> 1003
A163: 2563 | B163: 42432 | C163: Baring Bros & Co | D163: 332 | L163: =SUM(D163:K163) -> 332
A164: 2639 | B164: 42434 | C164: Baring Bros & Co | D164: 330 | L164: =SUM(D164:K164) -> 330
A165: 3698 | B165: 42462 | C165: Baring Bros & Co | D165: 115 | L165: =SUM(D165:K165) -> 115
A166: 3750 | B166: 42463 | C166: Baring Bros & Co | D166: 205 | L166: =SUM(D166:K166) -> 205
A167: 4052 | B167: 42470 | C167: Baring Bros & Co | D167: 200 | L167: =SUM(D167:K167) -> 200
A168: 4798 | B168: 42485 | C168: Baring Bros & Co | D168: 150 | L168: =SUM(D168:K168) -> 150
A169: 5243 | B169: 42499 | C169: Baring Bros & Co | D169: 300 | L169: =SUM(D169:K169) -> 300
A170: 5358 | B170: 42501 | C170: Baring Bros & Co | D170: 473 | L170: =SUM(D170:K170) -> 473
... A196: 5429 | B196: 42502 | C196: Barnes, J G | D196: 421 | L196: =SUM(D196:K196) -> 421
A197: 5491 | B197: 42502 | C197: Barnes, J G | E197: 58 | L197: =SUM(D197:K197) -> 58
A198: 5644 | B198: 42506 | C198: Barnes, J G | E198: 34 | L198: =SUM(D198:K198) -> 34
A199: 6178 | B199: 42515 | C199: Barnes, J G | D199: 90 | L199: =SUM(D199:K199) -> 90
A200: 6285 | B200: 42516 | C200: Barnes, J G | E200: 160 | L200: =SUM(D200:K200) -> 160
A201: 6483 | B201: 42520 | C201: Barnes, J G | E201: 107 | L201: =SUM(D201:K201) -> 107
A202: 453 | B202: 42379 | C202: Barnsley, G & Son | D202: 100 | L202: =SUM(D202:K202) -> 100
A203: 641 | B203: 42382 | C203: Barnsley, G & Son | D203: 102 | L203: =SUM(D203:K203) -> 102
A204: 1276 | B204: 42400 | C204: Barnsley, G & Son | D204: 417 | L204: =SUM(D204:K204) -> 417
A205: 1575 | B205: 42409 | C205: Barnsley, G & Son | D205: 55 | L205: =SUM(D205:K205) -> 55
A206: 1820 | B206: 42415 | C206: Barnsley, G & Son | D206: 101 | L206: =SUM(D206:K206) -> 101
A207: 2161 | B207: 42427 | C207: Barnsley, G & Son | D207: 149 | L207: =SUM(D207:K207) -> 149
A208: 2247 | B208: 42428 | C208: Barnsley, G & Son | D208: 227 | L208: =SUM(D208:K208) -> 227
A209: 2341 | B209: 42429 | C209: Barnsley, G & Son | D209: 315 | L209: =SUM(D209:K209) -> 315
A210: 2566 | B210: 42432 | C210: Barnsley, G & Son | D210: 195 | L210: =SUM(D210:K210) -> 195
A211: 2655 | B211: 42434 | C211: Barnsley, G & Son | D211: 31 | L211: =SUM(D211:K211) -> 31
A212: 3179 | B212: 42449 | C212: Barnsley, G & Son | D212: 426 | L212: =SUM(D212:K212) -> 426
A213: 3888 | B213: 42465 | C213: Barnsley, G & Son | D213: 50 | L213: =SUM(D213:K213) -> 50
... A228: 122 | B228: 42372 | C228: Barton, M & Son | D228: 100 | L228: =SUM(D228:K228) -> 100
A229: 164 | B229: 42372 | C229: Barton, M & Son | H229: 18 | L229: =SUM(D229:K229) -> 18
...

Sheet recipients
A1: No. | B1: Recipient | C1: America | D1: India | E1: Egypt | F1: Asia Minor | G1: South America | H1: West Indies | I1: China & Japan | J1: Other | K1: TOTAL ('000 lbs) | L1: Average
A2: 92 | B2: Fraser, Trenholm & Co | C2: 38769.408 | D2: 0 | E2: 0 | F2: 0 | G2: 0 | H2: 0 | I2: 0 | J2: 0 | K2: =SUM(C2:J2) -> 38769.408 | L2: =ROUND(K2/A2,3) -> 421.407
A3: 109 | B3: Joynson, P jun | C3: 34516.368 | D3: 0 | E3: 35.376 | F3: 0 | G3: 0 | H3: 0 | I3: 0 | J3: 0 | K3: =SUM(C3:J3) -> 34551.744 | L3: =ROUND(K3/A3,3) -> 316.988
A4: 130 | B4: Swainson, A & Sons | C4: 26910.576 | D4: 1069.71 | E4: 332.054 | F4: 0 | G4: 80.183 | H4: 0 | I4: 0 | J4: 0 | K4: =SUM(C4:J4) -> 28392.523 | L4: =ROUND(K4/A4,3) -> 218.404
A5: 127 | B5: Hollinshead, Tetley & Co | C5: 21748.176 | D5: 6133.004 | E5: 386.726 | F5: 0 | G5: 0 | H5: 0 | I5: 0 | J5: 0 | K5: =SUM(C5:J5) -> 28267.906 | L5: =ROUND(K5/A5,3) -> 222.582
A6: 86 | B6: Haigh, T & Co | C6: 25308.72 | D6: 2848.216 | E6: 0 | F6: 0 | G6: 0 | H6: 0 | I6: 0 | J6: 0 | K6: =SUM(C6:J6) -> 28156.936 | L6: =ROUND(K6/A6,3) -> 327.406
A7: 103 | B7: Titherington, Gill & Co | C7: 25086.456 | D7: 1934.166 | E7: 130.651 | F7: 0 | G7: 0 | H7: 0 | I7: 0 | J7: 16.614 | K7: =SUM(C7:J7) -> 27167.887 | L7: =ROUND(K7/A7,3) -> 263.766
A8: 151 | B8: Holt, G & Co | C8: 23639.04 | D8: 144.8 | E8: 1462.085 | F8: 0 | G8: 0 | H8: 0 | I8: 0 | J8: 83.922 | K8: =SUM(C8:J8) -> 25329.847 | L8: =ROUND(K8/A8,3) -> 167.747
A9: 122 | B9: Joynson, T & Co | C9: 15945.12 | D9: 8061.921 | E9: 0 | F9: 0 | G9: 0 | H9: 0 | I9: 0 | J9: 0 | K9: =SUM(C9:J9) -> 24007.041 | L9: =ROUND(K9/A9,3) -> 196.779
A10: 64 | B10: Isaac, Low & Co | C10: 23772.528 | D10: 0 | E10: 0 | F10: 0 | G10: 0 | H10: 0 | I10: 0 | J10: 0 | K10: =SUM(C10:J10) -> 23772.528 | L10: =ROUND(K10/A10,3) -> 371.446
A11: 92 | B11: Cowan, R | C11: 3195.072 | D11: 17115.36 | E11: 402.003 | F11: 0 | G11: 393.132 | H11: 0 | I11: 0 | J11: 2270.58 | K11: =SUM(C11:J11) -> 23376.147 | L11: =ROUND(K11/A11,3) -> 254.089
A12: 99 | B12: Malcomson, J & D & Co | C12: 21743.424 | D12: 0 | E12: 0 | F12: 0 | G12: 0 | H12: 0 | I12: 0 | J12: 0 | K12: =SUM(C12:J12) -> 21743.424 | L12: =ROUND(K12/A12,3) -> 219.631
A13: 127 | B13: Molyneux, Taylor & Co | C13: 17845.92 | D13: 2775.273 | E13: 1011.037 | F13: 0 | G13: 0 | H13: 0 | I13: 0 | J13: 0 | K13: =SUM(C13:J13) -> 21632.23 | L13: =ROUND(K13/A13,3) -> 170.333
... A584: 1 | B584: Jackson & McCulloch | C584: 0 | D584: 0 | E584: 0 | F584: 0 | G584: 0 | H584: 0.4 | I584: 0 | J584: 0 | K584: =SUM(C584:J584) -> 0.4 | L584: =ROUND(K584/A584,3) -> 0.4

Sheet brokers
A1: Status | B1: No. | C1: Recipient | D1: America | E1: India | F1: Egypt | G1: Asia Minor | H1: South America | I1: West Indies | J1: China & Japan | K1: Other | L1: TOTAL ('000 lbs) | M1: Average
A2: 1 | B2: 109 | C2: Joynson, P jun | D2: 34516.368 | E2: 0 | F2: 35.376 | G2: 0 | H2: 0 | I2: 0 | J2: 0 | K2: 0 | L2: =SUM(D2:K2) -> 34551.744 | M2: =ROUND(L2/B2,3) -> 316.988
A3: 1 | B3: 130 | C3: Swainson, A & Sons | D3: 26910.576 | E3: 1069.71 | F3: 332.054 | G3: 0 | H3: 80.183 | I3: 0 | J3: 0 | K3: 0 | L3: =SUM(D3:K3) -> 28392.523 | M3: =ROUND(L3/B3,3) -> 218.404
A4: 1 | B4: 127 | C4: Hollinshead, Tetley & Co | D4: 21748.176 | E4: 6133.004 | F4: 386.726 | G4: 0 | H4: 0 | I4: 0 | J4: 0 | K4: 0 | L4: =SUM(D4:K4) -> 28267.906 | M4: =ROUND(L4/B4,3) -> 222.582
A5: 1 | B5: 86 | C5: Haigh, T & Co | D5: 25308.72 | E5: 2848.216 | F5: 0 | G5: 0 | H5: 0 | I5: 0 | J5: 0 | K5: 0 | L5: =SUM(D5:K5) -> 28156.936 | M5: =ROUND(L5/B5,3) -> 327.406
A6: 1 | B6: 103 | C6: Titherington, Gill & Co | D6: 25086.456 | E6: 1934.166 | F6: 130.651 | G6: 0 | H6: 0 | I6: 0 | J6: 0 | K6: 16.614 | L6: =SUM(D6:K6) -> 27167.887 | M6: =ROUND(L6/B6,3) -> 263.766
A7: 1 | B7: 151 | C7: Holt, G & Co | D7: 23639.04 | E7: 144.8 | F7: 1462.085 | G7: 0 | H7: 0 | I7: 0 | J7: 0 | K7: 83.922 | L7: =SUM(D7:K7) -> 25329.847 | M7: =ROUND(L7/B7,3) -> 167.747
A8: 1 | B8: 122 | C8: Joynson, T & Co | D8: 15945.12 | E8: 8061.921 | F8: 0 | G8: 0 | H8: 0 | I8: 0 | J8: 0 | K8: 0 | L8: =SUM(D8:K8) -> 24007.041 | M8: =ROUND(L8/B8,3) -> 196.779
A9: 1 | B9: 127 | C9: Molyneux, Taylor & Co | D9: 17845.92 | E9: 2775.273 | F9: 1011.037 | G9: 0 | H9: 0 | I9: 0 | J9: 0 | K9: 0 | L9: =SUM(D9:K9) -> 21632.23 | M9: =ROUND(L9/B9,3) -> 170.333
A10: 1 | B10: 77 | C10: Marriott & Co | D10: 20875.104 | E10: 259.554 | F10: 0 | G10: 0 | H10: 0 | I10: 0 | J10: 0 | K10: 21.3 | L10: =SUM(D10:K10) -> 21155.958 | M10: =ROUND(L10/B10,3) -> 274.753
A11: 1 | B11: 156 | C11: Duckworth & Rathbone | D11: 16895.088 | E11: 0 | F11: 2425.686 | G11: 0 | H11: 0 | I11: 0 | J11: 0 | K11: 0 | L11: =SUM(D11:K11) -> 19320.774 | M11: =ROUND(L11/B11,3) -> 123.851
A12: 1 | B12: 97 | C12: Bateson, Chambres & Co | D12: 16894.224 | E12: 181.362 | F12: 133.867 | G12: 0 | H12: 140.094 | I12: 0 | J12: 0 | K12: 36.636 | L12: =SUM(D12:K12) -> 17386.183 | M12: =ROUND(L12/B12,3) -> 179.239
A13: 1 | B13: 101 | C13: Littledale, T & H & Co | D13: 2308.608 | E13: 13437.259 | F13: 114.169 | G13: 0 | H13: 39.82 | I13: 0 | J13: 0 | K13: 0 | L13: =SUM(D13:K13) -> 15899.856 | M13: =ROUND(L13/B13,3) -> 157.424
... A147: 2 | B147: 1 | C147: Rayner, J H & Co | D147: 0 | E147: 0 | F147: 0 | G147: 0 | H147: 0 | I147: 0 | J147: 0 | K147: 1.704 | L147: =SUM(D147:K147) -> 1.704 | M147: =ROUND(L147/B147,3) -> 1.704

Sheet non-brokers
A1: No. | B1: Recipient | D1: America | E1: India | F1: Egypt | G1: Asia Minor | H1: South America | I1: West Indies | J1: China & Japan | K1: Other | L1: TOTAL ('000 lbs) | M1: Average
A2: 92 | B2: Fraser, Trenholm & Co | D2: 38769.408 | E2: 0 | F2: 0 | G2: 0 | H2: 0 | I2: 0 | J2: 0 | K2: 0 | L2: =SUM(D2:K2) -> 38769.408 | M2: =ROUND(L2/A2,3) -> 421.407
A3: 64 | B3: Isaac, Low & Co | D3: 23772.528 | E3: 0 | F3: 0 | G3: 0 | H3: 0 | I3: 0 | J3: 0 | K3: 0 | L3: =SUM(D3:K3) -> 23772.528 | M3: =ROUND(L3/A3,3) -> 371.446
A4: 92 | B4: Cowan, R | D4: 3195.072 | E4: 17115.36 | F4: 402.003 | G4: 0 | H4: 393.132 | I4: 0 | J4: 0 | K4: 2270.58 | L4: =SUM(D4:K4) -> 23376.147 | M4: =ROUND(L4/A4,3) -> 254.089
A5: 99 | B5: Malcomson, J & D & Co | D5: 21743.424 | E5: 0 | F5: 0 | G5: 0 | H5: 0 | I5: 0 | J5: 0 | K5: 0 | L5: =SUM(D5:K5) -> 21743.424 | M5: =ROUND(L5/A5,3) -> 219.631
A6: 157 | B6: Schroder, J H & Co | D6: 17943.12 | E6: 0 | F6: 2912.109 | G6: 0 | H6: 0 | I6: 0 | J6: 0 | K6: 0 | L6: =SUM(D6:K6) -> 20855.229 | M6: =ROUND(L6/A6,3) -> 132.836
A7: 90 | B7: Huth, F & Co | D7: 16821.216 | E7: 1695.789 | F7: 399.591 | G7: 0 | H7: 0 | I7: 0 | J7: 0 | K7: 0 | L7: =SUM(D7:K7) -> 18916.596 | M7: =ROUND(L7/A7,3) -> 210.184
A8: 43 | B8: Fielden Bros & Co | D8: 16072.992 | E8: 797.305 | F8: 45.828 | G8: 0 | H8: 0 | I8: 0 | J8: 0 | K8: 0 | L8: =SUM(D8:K8) -> 16916.125 | M8: =ROUND(L8/A8,3) -> 393.398
A9: 65 | B9: Blessig, Braun & Co | D9: 15386.112 | E9: 77.83 | F9: 0 | G9: 0 | H9: 396.752 | I9: 0 | J9: 0 | K9: 0 | L9: =SUM(D9:K9) -> 15860.694 | M9: =ROUND(L9/A9,3) -> 244.011
A10: 68 | B10: Drake, Kleinwort & Co | D10: 15601.248 | E10: 0 | F10: 0 | G10: 0 | H10: 0 | I10: 0 | J10: 0 | K10: 0 | L10: =SUM(D10:K10) -> 15601.248 | M10: =ROUND(L10/A10,3) -> 229.43
A11: 109 | B11: Rathbone Bros & Co | D11: 13295.88 | E11: 1448 | F11: 490.846 | G11: 0 | H11: 0 | I11: 0 | J11: 0 | K11: 0 | L11: =SUM(D11:K11) -> 15234.726 | M11: =ROUND(L11/A11,3) -> 139.768
A12: 116 | B12: Melly, Forget & Co | D12: 14119.056 | E12: 289.6 | F12: 16.482 | G12: 0 | H12: 0 | I12: 0 | J12: 0 | K12: 578.508 | L12: =SUM(D12:K12) -> 15003.646 | M12: =ROUND(L12/A12,3) -> 129.342
A13: 53 | B13: Leech, Harrison & Co | D13: 12639.024 | E13: 90.5 | F13: 4.824 | G13: 0 | H13: 0 | I13: 0 | J13: 0 | K13: 0 | L13: =SUM(D13:K13) -> 12734.348 | M13: =ROUND(L13/A13,3) -> 240.271
... A155: 5 | B155: Gibbs, Bright & Co | D155: 711.936 | E155: 0 | F155: 0 | G155: 0 | H155: 0 | I155: 0 | J155: 0 | K155: 0 | L155: =SUM(D155:K155) -> 711.936 | M155: =ROUND(L155/A155,3) -> 142.387
A156: 5 | B156: Campbell, J & Co | C156: =IF(#REF!=B156,0,999) -> #REF! | D156: 603.072 | E156: 0 | F156: 0 | G156: 0 | H156: 108.6 | I156: 0 | J156: 0 | K156: 0 | L156: =SUM(D156:K156) -> 711.672 | M156: =ROUND(L156/A156,3) -> 142.334
A157: 2 | B157: Haynes, W H | D157: 708.48 | E157: 0 | F157: 0 | G157: 0 | H157: 0 | I157: 0 | J157: 0 | K157: 0 | L157: =SUM(D157:K157) -> 708.48 | M157: =ROUND(L157/A157,3) -> 354.24
A158: 11 | B158: Nixon & Killick | D158: 0 | E158: 707.71 | F158: 0 | G158: 0 | H158: 0 | I158: 0 | J158: 0 | K158: 0 | L158: =SUM(D158:K158) -> 707.71 | M158: =ROUND(L158/A158,3) -> 64.337
A159: 2 | B159: Inman, J C | D159: 707.616 | E159: 0 | F159: 0 | G159: 0 | H159: 0 | I159: 0 | J159: 0 | K159: 0 | L159: =SUM(D159:K159) -> 707.616 | M159: =ROUND(L159/A159,3) -> 353.808
A160: 2 | B160: Dirom, Davidson & Co | D160: 0 | E160: 703.366 | F160: 0 | G160: 0 | H160: 0 | I160: 0 | J160: 0 | K160: 0 | L160: =SUM(D160:K160) -> 703.366 | M160: =ROUND(L160/A160,3) -> 351.683
A161: 8 | B161: Evans, H | D161: 516.672 | E161: 0 | F161: 0 | G161: 0 | H161: 182.991 | I161: 0 | J161: 0 | K161: 0 | L161: =SUM(D161:K161) -> 699.663 | M161: =ROUND(L161/A161,3) -> 87.458
A162: 13 | B162: Overbeck & Co | D162: 692.928 | E162: 0 | F162: 0 | G162: 0 | H162: 0 | I162: 0 | J162: 0 | K162: 0 | L162: =SUM(D162:K162) -> 692.928 | M162: =ROUND(L162/A162,3) -> 53.302
A163: 11 | B163: Bowman, Tetley & Co | D163: 689.472 | E163: 0 | F163: 0 | G163: 0 | H163: 0 | I163: 0 | J163: 0 | K163: 0 | L163: =SUM(D163:K163) -> 689.472 | M163: =ROUND(L163/A163,3) -> 62.679
A164: 1 | B164: de Jersey & Co | D164: 676.512 | E164: 0 | F164: 0 | G164: 0 | H164: 0 | I164: 0 | J164: 0 | K164: 0 | L164: =SUM(D164:K164) -> 676.512 | M164: =ROUND(L164/A164,3) -> 676.512
A165: 13 | B165: Ashlin, I | D165: 663.12 | E165: 0 | F165: 0 | G165: 0 | H165: 0 | I165: 0 | J165: 0 | K165: 0 | L165: =SUM(D165:K165) -> 663.12 | M165: =ROUND(L165/A165,3) -> 51.009
A166: 5 | B166: Bibby, J, Sons & Co | D166: 472.176 | E166: 0 | F166: 178.891 | G166: 0 | H166: 0 | I166: 0 | J166: 0 | K166: 0 | L166: =SUM(D166:K166) -> 651.067 | M166: =ROUND(L166/A166,3) -> 130.213
A167: 6 | B167: de Wolf, J S & Co | D167: 638.928 | E167: 0 | F167: 0 | G167: 0 | H167: 0 | I167: 0 | J167: 0 | K167: 0 | L167: =SUM(D167:K167) -> 638.928 | M167: =ROUND(L167/A167,3) -> 106.488
A168: 8 | B168: Eggers, A F & Co | D168: 577.584 | E168: 0 | F168: 0 | G168: 0 | H168: 0 | I168: 0 | J168: 0 | K168: 0 | L168: =SUM(D168:K168) -> 577.584 | M168: =ROUND(L168/A168,3) -> 72.198
... A438: 1 | B438: Jackson & McCulloch | D438: 0 | E438: 0 | F438: 0 | G438: 0 | H438: 0 | I438: 0.4 | J438: 0 | K438: 0 | L438: =SUM(D438:K438) -> 0.4 | M438: =ROUND(L438/A438,3) -> 0.4
